BEGIN:VCALENDAR
VERSION:2.0
PRODID:-//Tukios.com/
BEGIN:VEVENT
UID:8214194b-0a12-438d-b890-8410e7f16311@www.weberfh.com
DTSTAMP:20260426T005646Z
DTSTART:20260502T190000Z
DTEND:20260502T200000Z
SUMMARY:Funeral Service
DESCRIPTION:
URL:https://www.weberfh.com/obituaries/phyllis-webber
LOCATION: 340 East Lincoln Way  Lisbon OH 44432
GEO:40.7719659;-80.7632264
END:VEVENT
END:VCALENDAR