BEGIN:VCALENDAR
VERSION:2.0
PRODID:-//Tukios.com/
BEGIN:VEVENT
UID:5ce64b7e-dea5-4efa-b648-642d05c64c9f@www.weberfh.com
DTSTAMP:20260426T005426Z
DTSTART:20260502T170000Z
DTEND:20260502T190000Z
SUMMARY:Visitation
DESCRIPTION:
URL:https://www.weberfh.com/obituaries/phyllis-webber
LOCATION: 340 East Lincoln Way  Lisbon OH 44432
GEO:40.7719659;-80.7632264
END:VEVENT
END:VCALENDAR